BEGIN:VCALENDAR
VERSION:2.0
PRODID:-//Castlegal N.S. - ECPv6.15.20//NONSGML v1.0//EN
CALSCALE:GREGORIAN
METHOD:PUBLISH
X-ORIGINAL-URL:https://castlegalns.com
X-WR-CALDESC:Events for Castlegal N.S.
REFRESH-INTERVAL;VALUE=DURATION:PT1H
X-Robots-Tag:noindex
X-PUBLISHED-TTL:PT1H
BEGIN:VTIMEZONE
TZID:Europe/Dublin
BEGIN:STANDARD
TZOFFSETFROM:+0000
TZOFFSETTO:+0100
TZNAME:IST
DTSTART:20230326T010000
END:STANDARD
BEGIN:DAYLIGHT
TZOFFSETFROM:+0100
TZOFFSETTO:+0000
TZNAME:GMT
DTSTART:20231029T010000
END:DAYLIGHT
BEGIN:STANDARD
TZOFFSETFROM:+0000
TZOFFSETTO:+0100
TZNAME:IST
DTSTART:20240331T010000
END:STANDARD
BEGIN:DAYLIGHT
TZOFFSETFROM:+0100
TZOFFSETTO:+0000
TZNAME:GMT
DTSTART:20241027T010000
END:DAYLIGHT
BEGIN:STANDARD
TZOFFSETFROM:+0000
TZOFFSETTO:+0100
TZNAME:IST
DTSTART:20250330T010000
END:STANDARD
BEGIN:DAYLIGHT
TZOFFSETFROM:+0100
TZOFFSETTO:+0000
TZNAME:GMT
DTSTART:20251026T010000
END:DAYLIGHT
END:VTIMEZONE
BEGIN:VEVENT
DTSTART;VALUE=DATE:20240501
DTEND;VALUE=DATE:20240502
DTSTAMP:20260421T201122
CREATED:20240418T110649Z
LAST-MODIFIED:20240621T083507Z
UID:3095-1714521600-1714607999@castlegalns.com
SUMMARY:Go Yellow 💛
DESCRIPTION:1st of May  Please wear YELLOW !💛💛 \nWe’ve chosen to fundraise for Children’s Health Foundation Crumlin formerly CMRF Crumlin\, Children’s Health Foundation Temple Street and NMH Foundation (Helping Holles Street). All funds raised here will go directly to these great causes. \nWe hope that you can help us by donating whatever you can.  All donations are processed securely. \nSimply click the Donate button ⬇️ \nhttps://www.idonate.ie/fundraiser/GoYellow \n 
URL:https://castlegalns.com/event/https-www-idonate-ie-fundraiser-goyellow/
LOCATION:Castlegal NS\, F91 DA00
CATEGORIES:Activity
ATTACH;FMTTYPE=image/jpeg:https://castlegalns.com/wp-content/uploads/2024/04/Screenshot_18-4-2024_1258_.jpeg
END:VEVENT
BEGIN:VEVENT
DTSTART;TZID=Europe/Dublin:20240521T120000
DTEND;TZID=Europe/Dublin:20240521T130000
DTSTAMP:20260421T201122
CREATED:20240314T100539Z
LAST-MODIFIED:20240527T091123Z
UID:2988-1716292800-1716296400@castlegalns.com
SUMMARY:Soccer Lessons - all Classes
DESCRIPTION:Soccer Lessons – All Classes / 6 weeks course\nSoccer  lessons began on Tuesday\, 9th of April (after Easter Holidays) at the school.\nThere will be six lessons in total\, with last lesson on 21st of May.
URL:https://castlegalns.com/event/soccer-lessons-6-weeks-course/
LOCATION:Castlegal NS\, F91 DA00
CATEGORIES:Activity
ATTACH;FMTTYPE=image/jpeg:https://castlegalns.com/wp-content/uploads/2024/03/Soccer.jpeg
END:VEVENT
END:VCALENDAR