BEGIN:VCALENDAR
VERSION:2.0
PRODID:-//Castlegal N.S. - ECPv6.15.20//NONSGML v1.0//EN
CALSCALE:GREGORIAN
METHOD:PUBLISH
X-ORIGINAL-URL:https://castlegalns.com
X-WR-CALDESC:Events for Castlegal N.S.
REFRESH-INTERVAL;VALUE=DURATION:PT1H
X-Robots-Tag:noindex
X-PUBLISHED-TTL:PT1H
BEGIN:VTIMEZONE
TZID:Europe/Dublin
BEGIN:STANDARD
TZOFFSETFROM:+0000
TZOFFSETTO:+0100
TZNAME:IST
DTSTART:20230326T010000
END:STANDARD
BEGIN:DAYLIGHT
TZOFFSETFROM:+0100
TZOFFSETTO:+0000
TZNAME:GMT
DTSTART:20231029T010000
END:DAYLIGHT
BEGIN:STANDARD
TZOFFSETFROM:+0000
TZOFFSETTO:+0100
TZNAME:IST
DTSTART:20240331T010000
END:STANDARD
BEGIN:DAYLIGHT
TZOFFSETFROM:+0100
TZOFFSETTO:+0000
TZNAME:GMT
DTSTART:20241027T010000
END:DAYLIGHT
BEGIN:STANDARD
TZOFFSETFROM:+0000
TZOFFSETTO:+0100
TZNAME:IST
DTSTART:20250330T010000
END:STANDARD
BEGIN:DAYLIGHT
TZOFFSETFROM:+0100
TZOFFSETTO:+0000
TZNAME:GMT
DTSTART:20251026T010000
END:DAYLIGHT
END:VTIMEZONE
BEGIN:VEVENT
DTSTART;TZID=Europe/Dublin:20241007T120000
DTEND;TZID=Europe/Dublin:20241007T140000
DTSTAMP:20260421T131815
CREATED:20240926T113035Z
LAST-MODIFIED:20240926T113207Z
UID:3556-1728302400-1728309600@castlegalns.com
SUMMARY:Wainfest - Jay Ryan / Children's Arts & Book Festival
DESCRIPTION:Children’s Arts & Book Festival  \nWith Jay Ryan The Mad Scientist at Bundoran Library!
URL:https://castlegalns.com/event/wainfest-jay-ryan-childrens-arts-book-festival/
LOCATION:Bundoran Library
CATEGORIES:Activity
END:VEVENT
BEGIN:VEVENT
DTSTART;TZID=Europe/Dublin:20241008T100000
DTEND;TZID=Europe/Dublin:20241008T120000
DTSTAMP:20260421T131815
CREATED:20240926T105322Z
LAST-MODIFIED:20240926T113109Z
UID:3552-1728381600-1728388800@castlegalns.com
SUMMARY:Wainfest - Lego Club / Children's Arts & Book Festival
DESCRIPTION:Children’s Arts & Book Festival  \nCalling all young builders! Unleash  your creativity at Bundoran library’s LEGO Club! \n 
URL:https://castlegalns.com/event/wainfest-childrens-arts-book-festival/
LOCATION:Bundoran Library
CATEGORIES:Activity
END:VEVENT
BEGIN:VEVENT
DTSTART;TZID=Europe/Dublin:20241021T100000
DTEND;TZID=Europe/Dublin:20241021T100000
DTSTAMP:20260421T131815
CREATED:20240926T112913Z
LAST-MODIFIED:20241024T091340Z
UID:3559-1729504800-1729504800@castlegalns.com
SUMMARY:Math's Week 🔢
DESCRIPTION:Math’s Week Ireland will be held on the 12th October – 20th October 2024. \n 
URL:https://castlegalns.com/event/maths-week-%f0%9f%94%a2/
LOCATION:Castlegal NS\, F91 DA00
CATEGORIES:Activity
END:VEVENT
BEGIN:VEVENT
DTSTART;VALUE=DATE:20241022
DTEND;VALUE=DATE:20241023
DTSTAMP:20260421T131815
CREATED:20241007T120007Z
LAST-MODIFIED:20241007T120332Z
UID:3624-1729555200-1729641599@castlegalns.com
SUMMARY:School Orienteering Event
DESCRIPTION:4th to 6th Class will visit Cleveragh Regional Park in Sligo for the Primary School Orienteering Event.
URL:https://castlegalns.com/event/school-orienteering-event/
CATEGORIES:Activity
END:VEVENT
BEGIN:VEVENT
DTSTART;VALUE=DATE:20241025
DTEND;VALUE=DATE:20241026
DTSTAMP:20260421T131815
CREATED:20241017T123142Z
LAST-MODIFIED:20241017T123142Z
UID:3731-1729814400-1729900799@castlegalns.com
SUMMARY:Halloween Fundraiser & Dress up 🎃👻
DESCRIPTION:Friday 25th of October: Trick or Treat for sick children & Halloween Dress up\n\nJust to let you know that we are holding a Halloween fundraiser for Temple Street Children’s Hospital Friday 25th of October. The children in all classes are asked to dress up for this event and there is an optional donation that day\, big or small\, for each child.\n\nWe are very much looking forward to see all children dress up for Halloween on Friday the 25th of October!\n 
URL:https://castlegalns.com/event/halloween-fundraiser-dress-up-%f0%9f%8e%83%f0%9f%91%bb/
LOCATION:Castlegal NS\, F91 DA00
CATEGORIES:Activity
END:VEVENT
END:VCALENDAR