BEGIN:VCALENDAR
VERSION:2.0
PRODID:-//Castlegal N.S. - ECPv6.15.20//NONSGML v1.0//EN
CALSCALE:GREGORIAN
METHOD:PUBLISH
X-WR-CALNAME:Castlegal N.S.
X-ORIGINAL-URL:https://castlegalns.com
X-WR-CALDESC:Events for Castlegal N.S.
REFRESH-INTERVAL;VALUE=DURATION:PT1H
X-Robots-Tag:noindex
X-PUBLISHED-TTL:PT1H
BEGIN:VTIMEZONE
TZID:Europe/Dublin
BEGIN:STANDARD
TZOFFSETFROM:+0000
TZOFFSETTO:+0100
TZNAME:IST
DTSTART:20230326T010000
END:STANDARD
BEGIN:DAYLIGHT
TZOFFSETFROM:+0100
TZOFFSETTO:+0000
TZNAME:GMT
DTSTART:20231029T010000
END:DAYLIGHT
BEGIN:STANDARD
TZOFFSETFROM:+0000
TZOFFSETTO:+0100
TZNAME:IST
DTSTART:20240331T010000
END:STANDARD
BEGIN:DAYLIGHT
TZOFFSETFROM:+0100
TZOFFSETTO:+0000
TZNAME:GMT
DTSTART:20241027T010000
END:DAYLIGHT
BEGIN:STANDARD
TZOFFSETFROM:+0000
TZOFFSETTO:+0100
TZNAME:IST
DTSTART:20250330T010000
END:STANDARD
BEGIN:DAYLIGHT
TZOFFSETFROM:+0100
TZOFFSETTO:+0000
TZNAME:GMT
DTSTART:20251026T010000
END:DAYLIGHT
END:VTIMEZONE
BEGIN:VEVENT
DTSTART;TZID=Europe/Dublin:20240619T113000
DTEND;TZID=Europe/Dublin:20240619T123000
DTSTAMP:20260421T201214
CREATED:20240527T104713Z
LAST-MODIFIED:20240605T105901Z
UID:3213-1718796600-1718800200@castlegalns.com
SUMMARY:End of Year Mass
DESCRIPTION:End of Year Mass will start at 11.30AM. \nWe are all very excited for the presentation of the Hoodies for the 6th Class Seniors! \n  \n  \n  \n 
URL:https://castlegalns.com/event/graduation-day-6th-class/
LOCATION:Castlegal NS\, F91 DA00
CATEGORIES:Activity
ATTACH;FMTTYPE=image/jpeg:https://castlegalns.com/wp-content/uploads/2024/05/Class-2024-Senior-Graduation.jpg
END:VEVENT
BEGIN:VEVENT
DTSTART;TZID=Europe/Dublin:20240619T153000
DTEND;TZID=Europe/Dublin:20240619T163000
DTSTAMP:20260421T201214
CREATED:20240605T102826Z
LAST-MODIFIED:20240605T102840Z
UID:3252-1718811000-1718814600@castlegalns.com
SUMMARY:Board of Management Meeting
DESCRIPTION:Board of Management meeting will take place at 3.30pm at the school.
URL:https://castlegalns.com/event/board-of-management-meeting/
LOCATION:Castlegal NS\, F91 DA00
CATEGORIES:Activity
ATTACH;FMTTYPE=image/png:https://castlegalns.com/wp-content/uploads/2024/06/BOM-meeting-image.png
END:VEVENT
END:VCALENDAR