BEGIN:VCALENDAR
VERSION:2.0
PRODID:-//Castlegal N.S. - ECPv6.15.20//NONSGML v1.0//EN
CALSCALE:GREGORIAN
METHOD:PUBLISH
X-WR-CALNAME:Castlegal N.S.
X-ORIGINAL-URL:https://castlegalns.com
X-WR-CALDESC:Events for Castlegal N.S.
REFRESH-INTERVAL;VALUE=DURATION:PT1H
X-Robots-Tag:noindex
X-PUBLISHED-TTL:PT1H
BEGIN:VTIMEZONE
TZID:Europe/Dublin
BEGIN:STANDARD
TZOFFSETFROM:+0000
TZOFFSETTO:+0100
TZNAME:IST
DTSTART:20230326T010000
END:STANDARD
BEGIN:DAYLIGHT
TZOFFSETFROM:+0100
TZOFFSETTO:+0000
TZNAME:GMT
DTSTART:20231029T010000
END:DAYLIGHT
BEGIN:STANDARD
TZOFFSETFROM:+0000
TZOFFSETTO:+0100
TZNAME:IST
DTSTART:20240331T010000
END:STANDARD
BEGIN:DAYLIGHT
TZOFFSETFROM:+0100
TZOFFSETTO:+0000
TZNAME:GMT
DTSTART:20241027T010000
END:DAYLIGHT
BEGIN:STANDARD
TZOFFSETFROM:+0000
TZOFFSETTO:+0100
TZNAME:IST
DTSTART:20250330T010000
END:STANDARD
BEGIN:DAYLIGHT
TZOFFSETFROM:+0100
TZOFFSETTO:+0000
TZNAME:GMT
DTSTART:20251026T010000
END:DAYLIGHT
END:VTIMEZONE
BEGIN:VEVENT
DTSTART;VALUE=DATE:20241025
DTEND;VALUE=DATE:20241026
DTSTAMP:20260421T144703
CREATED:20241017T123142Z
LAST-MODIFIED:20241017T123142Z
UID:3731-1729814400-1729900799@castlegalns.com
SUMMARY:Halloween Fundraiser & Dress up 🎃👻
DESCRIPTION:Friday 25th of October: Trick or Treat for sick children & Halloween Dress up\n\nJust to let you know that we are holding a Halloween fundraiser for Temple Street Children’s Hospital Friday 25th of October. The children in all classes are asked to dress up for this event and there is an optional donation that day\, big or small\, for each child.\n\nWe are very much looking forward to see all children dress up for Halloween on Friday the 25th of October!\n 
URL:https://castlegalns.com/event/halloween-fundraiser-dress-up-%f0%9f%8e%83%f0%9f%91%bb/
LOCATION:Castlegal NS\, F91 DA00
CATEGORIES:Activity
END:VEVENT
END:VCALENDAR