BEGIN:VCALENDAR
VERSION:2.0
PRODID:-//Castlegal N.S. - ECPv6.15.20//NONSGML v1.0//EN
CALSCALE:GREGORIAN
METHOD:PUBLISH
X-ORIGINAL-URL:https://castlegalns.com
X-WR-CALDESC:Events for Castlegal N.S.
REFRESH-INTERVAL;VALUE=DURATION:PT1H
X-Robots-Tag:noindex
X-PUBLISHED-TTL:PT1H
BEGIN:VTIMEZONE
TZID:Europe/Dublin
BEGIN:STANDARD
TZOFFSETFROM:+0000
TZOFFSETTO:+0100
TZNAME:IST
DTSTART:20230326T010000
END:STANDARD
BEGIN:DAYLIGHT
TZOFFSETFROM:+0100
TZOFFSETTO:+0000
TZNAME:GMT
DTSTART:20231029T010000
END:DAYLIGHT
BEGIN:STANDARD
TZOFFSETFROM:+0000
TZOFFSETTO:+0100
TZNAME:IST
DTSTART:20240331T010000
END:STANDARD
BEGIN:DAYLIGHT
TZOFFSETFROM:+0100
TZOFFSETTO:+0000
TZNAME:GMT
DTSTART:20241027T010000
END:DAYLIGHT
BEGIN:STANDARD
TZOFFSETFROM:+0000
TZOFFSETTO:+0100
TZNAME:IST
DTSTART:20250330T010000
END:STANDARD
BEGIN:DAYLIGHT
TZOFFSETFROM:+0100
TZOFFSETTO:+0000
TZNAME:GMT
DTSTART:20251026T010000
END:DAYLIGHT
END:VTIMEZONE
BEGIN:VEVENT
DTSTART;VALUE=DATE:20241108
DTEND;VALUE=DATE:20241109
DTSTAMP:20260421T130018
CREATED:20241021T092729Z
LAST-MODIFIED:20241021T092806Z
UID:3733-1731024000-1731110399@castlegalns.com
SUMMARY:Christmas Shoebox Appeal
DESCRIPTION:We have registered our school to join the Christmas Shoebox Appeal this year. Please drop off the Christmas Shoebox at our school before Friday 8th of November. \nTeam Hope’s Christmas Shoebox Appeal is an annual campaign that delivers gifts straight into the hands of children affected by poverty. Often these shoebox gifts are the only gift that a child will receive at Christmas and the joy that they bring is incredible.
URL:https://castlegalns.com/event/christmas-shoebox-appeal/
LOCATION:Castlegal NS\, F91 DA00
CATEGORIES:Activity
ATTACH;FMTTYPE=image/jpeg:https://castlegalns.com/wp-content/uploads/2024/10/Christmas-Shoebox-Appeal.jpg
END:VEVENT
END:VCALENDAR